BEGIN:VCALENDAR
VERSION:2.0
PRODID:-//Tukios.com/
BEGIN:VEVENT
UID:138cd736-1040-43e7-a798-e723eefccf15@www.hagischultzfh.com
DTSTAMP:20260419T212715Z
DTSTART:20260422
SUMMARY:Burial
DESCRIPTION:
URL:https://www.hagischultzfh.com/obituaries/greg-bogeart
LOCATION: 1541 E 16th Road  Streator IL 
GEO:41.155779;-88.8549657
END:VEVENT
END:VCALENDAR