BEGIN:VCALENDAR
VERSION:2.0
PRODID:-//Tukios.com/
BEGIN:VEVENT
UID:5fd53326-dacd-42ff-97ce-8d1a57901898@www.hagischultzfh.com
DTSTAMP:20260419T211900Z
DTSTART:20260422T170000Z
DTEND:20260422T180000Z
SUMMARY:Visitation
DESCRIPTION:
URL:https://www.hagischultzfh.com/obituaries/greg-bogeart
LOCATION: 205 High St.  Streator IL 61364
GEO:41.1196178;-88.8370837
END:VEVENT
END:VCALENDAR